BEGIN:VCALENDAR
VERSION:2.0
PRODID:-//Verein für Deutsche Wachtelhunde e.V. Landesgruppe Niedersachsen - ECPv6.15.20//NONSGML v1.0//EN
CALSCALE:GREGORIAN
METHOD:PUBLISH
X-WR-CALNAME:Verein für Deutsche Wachtelhunde e.V. Landesgruppe Niedersachsen
X-ORIGINAL-URL:https://wachtelhund-niedersachsen.com
X-WR-CALDESC:Veranstaltungen für Verein für Deutsche Wachtelhunde e.V. Landesgruppe Niedersachsen
REFRESH-INTERVAL;VALUE=DURATION:PT1H
X-Robots-Tag:noindex
X-PUBLISHED-TTL:PT1H
BEGIN:VTIMEZONE
TZID:UTC
BEGIN:STANDARD
TZOFFSETFROM:+0000
TZOFFSETTO:+0000
TZNAME:UTC
DTSTART:20250101T000000
END:STANDARD
END:VTIMEZONE
BEGIN:VEVENT
DTSTART;VALUE=DATE:20260107
DTEND;VALUE=DATE:20260108
DTSTAMP:20260421T224013
CREATED:20251212T191007Z
LAST-MODIFIED:20251216T205808Z
UID:14389-1767744000-1767830399@wachtelhund-niedersachsen.com
SUMMARY:Junghundejagd Solling - Forstamt Dassel
DESCRIPTION:Das Forstamt Dassel bietet auch in dieser Jagdsaison kurzfristig eine Junghundjagd an. \nTermin ist Mittwoch\, der 7.1.2026.\nInteressensbekundungen bis zum 21.12.2025 an: olaf.mueller@nfa-dassel.niedersachsen.de \nAus organisatorischen Gründen findet die Jagd in einem kleineren Rahmen\, als in den Vorjahren\, statt.\nVon daher sind die Plätze begrenzt. \nPlatzvergabe nach Nennungsdatum.
URL:https://wachtelhund-niedersachsen.com/termin-veranstaltung/junghundejagd-forstamt-dassel/
LOCATION:Dassel
ATTACH;FMTTYPE=image/jpeg:https://wachtelhund-niedersachsen.com/wp-content/uploads/2025/04/IMG_7952-scaled.jpeg
END:VEVENT
END:VCALENDAR