BEGIN:VCALENDAR
VERSION:2.0
PRODID:-//Verein für Deutsche Wachtelhunde e.V. Landesgruppe Niedersachsen - ECPv6.15.20//NONSGML v1.0//EN
CALSCALE:GREGORIAN
METHOD:PUBLISH
X-WR-CALNAME:Verein für Deutsche Wachtelhunde e.V. Landesgruppe Niedersachsen
X-ORIGINAL-URL:https://wachtelhund-niedersachsen.com
X-WR-CALDESC:Veranstaltungen für Verein für Deutsche Wachtelhunde e.V. Landesgruppe Niedersachsen
REFRESH-INTERVAL;VALUE=DURATION:PT1H
X-Robots-Tag:noindex
X-PUBLISHED-TTL:PT1H
BEGIN:VTIMEZONE
TZID:UTC
BEGIN:STANDARD
TZOFFSETFROM:+0000
TZOFFSETTO:+0000
TZNAME:UTC
DTSTART:20250101T000000
END:STANDARD
END:VTIMEZONE
BEGIN:VEVENT
DTSTART;TZID=UTC:20260127T090000
DTEND;TZID=UTC:20260201T180000
DTSTAMP:20260421T210039
CREATED:20260117T221132Z
LAST-MODIFIED:20260117T221132Z
UID:14581-1769504400-1769968800@wachtelhund-niedersachsen.com
SUMMARY:Jagd und Hund - Europas größte Jagdmesse
DESCRIPTION:Ihr findet den Verein für Deutsche Wachtelhunde e.V. in den Messehallen \nStandnummer:  3.B37\n\n\nVDW e.V.\nAn der Schmalmach 28\n65307 Bad Schwalbach\nDeutschland \nE-Mail:p.gerlach@wachtelhund.de\nwww.wachtelhund.de
URL:https://wachtelhund-niedersachsen.com/termin-veranstaltung/jagd-und-hund-europas-groesste-jagdmesse/
LOCATION:Dortmund\, Rheinlanddamm 200\, Dortmund\, Nordrhein-Westfalen\, 44139\, Deutschland
ATTACH;FMTTYPE=image/jpeg:https://wachtelhund-niedersachsen.com/wp-content/uploads/2026/01/Phia-vom-Garlstorfer-Wald_JagdUndHUnd.jpg
END:VEVENT
END:VCALENDAR