BEGIN:VCALENDAR
VERSION:2.0
PRODID:-//Verein für Deutsche Wachtelhunde e.V. Landesgruppe Niedersachsen - ECPv6.15.20//NONSGML v1.0//EN
CALSCALE:GREGORIAN
METHOD:PUBLISH
X-WR-CALNAME:Verein für Deutsche Wachtelhunde e.V. Landesgruppe Niedersachsen
X-ORIGINAL-URL:https://wachtelhund-niedersachsen.com
X-WR-CALDESC:Veranstaltungen für Verein für Deutsche Wachtelhunde e.V. Landesgruppe Niedersachsen
REFRESH-INTERVAL;VALUE=DURATION:PT1H
X-Robots-Tag:noindex
X-PUBLISHED-TTL:PT1H
BEGIN:VTIMEZONE
TZID:UTC
BEGIN:STANDARD
TZOFFSETFROM:+0000
TZOFFSETTO:+0000
TZNAME:UTC
DTSTART:20250101T000000
END:STANDARD
END:VTIMEZONE
BEGIN:VEVENT
DTSTART;TZID=UTC:20260328T090000
DTEND;TZID=UTC:20260328T120000
DTSTAMP:20260421T192043
CREATED:20260319T200502Z
LAST-MODIFIED:20260319T201247Z
UID:15271-1774688400-1774699200@wachtelhund-niedersachsen.com
SUMMARY:Hundeausbildung in Börry bei Karl-Heinz Strohmeyer
DESCRIPTION:Welpen-Spieltage/Führerlehrgänge\nAb März 2026 (beginnend am 28.03.2026) finden wieder Welpen-Spieltage und Führerlehrgänge in Börry (Nähe Hameln) statt.\nZiel der Welpentreffen ist es\, junge Hunde in der Gemeinschaft zu sozialisieren\, den Führern wichtige Hilfsmittel an die Hand zu geben und die ersten Abrichteschritte in Sachen Apportieren\, Wasserarbeit\, Führerfährte und Schweißarbeit einzuleiten.  \nDie Führerlehrgänge finden in der Regel wöchentlich statt und beinhalten eine intensive Schulung mit Blick auf die Herbstprüfungen und den jagdlichen Alltag.  \nGgf. wird es auch Crashkurse am Wochenende geben. Ein Quereinstieg ist möglich.  \nAnmeldungen über Strohmeyer Tel. 05157/959380\, Handy 01703032337\, oder E-Mail strohmeyer.waldlaeufer@web.de \nWeitere Infos unter http://www.wachtelhund-waldlaeufer.de/
URL:https://wachtelhund-niedersachsen.com/termin-veranstaltung/hundeausbildung-in-boerry-bei-karl-heinz-strohmeyer/
LOCATION:Emmerthal-Börry\, Niederbörry 8\, Emmerthal-Börry\, Niedersachsen\, 31860\, Deutschland
ATTACH;FMTTYPE=image/jpeg:https://wachtelhund-niedersachsen.com/wp-content/uploads/2026/03/Fuehrerlhrgaenge_KHS_2026.jpg
END:VEVENT
END:VCALENDAR