BEGIN:VCALENDAR
VERSION:2.0
PRODID:-//Verein für Deutsche Wachtelhunde e.V. Landesgruppe Niedersachsen - ECPv6.15.20//NONSGML v1.0//EN
CALSCALE:GREGORIAN
METHOD:PUBLISH
X-ORIGINAL-URL:https://wachtelhund-niedersachsen.com
X-WR-CALDESC:Veranstaltungen für Verein für Deutsche Wachtelhunde e.V. Landesgruppe Niedersachsen
REFRESH-INTERVAL;VALUE=DURATION:PT1H
X-Robots-Tag:noindex
X-PUBLISHED-TTL:PT1H
BEGIN:VTIMEZONE
TZID:UTC
BEGIN:STANDARD
TZOFFSETFROM:+0000
TZOFFSETTO:+0000
TZNAME:UTC
DTSTART:20260101T000000
END:STANDARD
END:VTIMEZONE
BEGIN:VEVENT
DTSTART;VALUE=DATE:20270528
DTEND;VALUE=DATE:20270530
DTSTAMP:20260425T103134
CREATED:20251027T203904Z
LAST-MODIFIED:20251027T204059Z
UID:14382-1811462400-1811635199@wachtelhund-niedersachsen.com
SUMMARY:HV 2027
DESCRIPTION:Am 28. und 29. Mai 2027 findet in der Residenzstadt Celle die Hauptversammlung des Vereins für Deutsche Wachtelhunde e.V. statt. Wir freuen uns schon jetzt auf unsere Gäste aus Deutschland und unsere internationalen Gäste befreundeter Wachtelhundvereine.\nMit dem Standort Celle und den Veranstaltungshallen der CD Kaserne haben wir einen Veranstaltungsort gefunden\, der gut erreichbar ist und uns viele Spielraum lässt. \nMehr Informationen findet ihr auf der Seite: https://wachtelhund-niedersachsen.com/hv-2027/
URL:https://wachtelhund-niedersachsen.com/termin-veranstaltung/hv-2027/
LOCATION:Niedersachsen
ATTACH;FMTTYPE=image/jpeg:https://wachtelhund-niedersachsen.com/wp-content/uploads/2025/10/cropped-HV_Einladung2.jpg
END:VEVENT
END:VCALENDAR